BEGIN:VCALENDAR
VERSION:2.0
PRODID:-//217.160.168.100//NONSGML kigkonsult.se iCalcreator 2.20//
CALSCALE:GREGORIAN
METHOD:PUBLISH
X-WR-TIMEZONE:Europe/Berlin
BEGIN:VEVENT
UID:event212@Parksong
DTSTAMP:20260423T164758Z
CATEGORIES:Parksong
DESCRIPTION:167. Parksong\nKategorie: Parksong\nICS-Link: https://www.parks
 ong.de/index.php?option=com_jem&view=event&id=212:167-parksong\n
DTSTART;TZID=Europe/Berlin:20260528T193000
DTEND;TZID=Europe/Berlin:20260528T193000
LOCATION:Kuchems Brauhaus\,Hauptstraße 13\,66953 Pirmasens
SUMMARY:167. Parksong
URL:https://www.parksong.de/index.php?option=com_jem&view=event&id=212:167-
 parksong
END:VEVENT
END:VCALENDAR